BEGIN:VCALENDAR
VERSION:2.0
PRODID:-//jEvents 1.5 for Joomla//EN
BEGIN:VEVENT
UID:066c4c1a482ee40b3f7d5a1a3851c167
CATEGORIES:MuellKalender
SUMMARY:gruen
LOCATION:
DESCRIPTION;ENCODING=QUOTED-PRINTABLE:

DTSTAMP:20260425T222701
DTSTART:20190906T000000
DTEND:20190906T235959
SEQUENCE:0
TRANSP:OPAQUE
END:VEVENT
END:VCALENDAR