BEGIN:VCALENDAR
VERSION:2.0
PRODID:-//jEvents 1.5 for Joomla//EN
BEGIN:VEVENT
UID:429abe172a9e46b70a07463643781c5f
CATEGORIES:MuellKalender
SUMMARY:schwarz, gruen
LOCATION:
DESCRIPTION;ENCODING=QUOTED-PRINTABLE:

DTSTAMP:20260425T222700
DTSTART:20190913T000000
DTEND:20190913T235959
SEQUENCE:0
TRANSP:OPAQUE
END:VEVENT
END:VCALENDAR