BEGIN:VCALENDAR
VERSION:2.0
PRODID:-//jEvents 1.5 for Joomla//EN
BEGIN:VEVENT
UID:58731945ba9f763054cb4d9f8c1e46e5
CATEGORIES:MuellKalender
SUMMARY:gruen
LOCATION:
DESCRIPTION;ENCODING=QUOTED-PRINTABLE:

DTSTAMP:20260425T204445
DTSTART:20191005T000000
DTEND:20191005T235959
SEQUENCE:0
TRANSP:OPAQUE
END:VEVENT
END:VCALENDAR