BEGIN:VCALENDAR
VERSION:2.0
PRODID:-//jEvents 1.5 for Joomla//EN
BEGIN:VEVENT
UID:5518ee0dc4847a49881d744254266520
CATEGORIES:MuellKalender
SUMMARY:schwarz, gruen
LOCATION:
DESCRIPTION;ENCODING=QUOTED-PRINTABLE:

DTSTAMP:20260425T204445
DTSTART:20191025T000000
DTEND:20191025T235959
SEQUENCE:0
TRANSP:OPAQUE
END:VEVENT
END:VCALENDAR