BEGIN:VCALENDAR
VERSION:2.0
PRODID:-//jEvents 1.5 for Joomla//EN
BEGIN:VEVENT
UID:aa09f234bda6a4beb3474068bd6c5b8e
CATEGORIES:MuellKalender
SUMMARY:gruen, gelb, blau
LOCATION:
DESCRIPTION;ENCODING=QUOTED-PRINTABLE:

DTSTAMP:20260425T191522
DTSTART:20191115T000000
DTEND:20191115T235959
SEQUENCE:0
TRANSP:OPAQUE
END:VEVENT
END:VCALENDAR