BEGIN:VCALENDAR
VERSION:2.0
PRODID:-//jEvents 1.5 for Joomla//EN
BEGIN:VEVENT
UID:22589938db7a9775e7c06b4a8b929176
CATEGORIES:MuellKalender
SUMMARY:gruen
LOCATION:
DESCRIPTION;ENCODING=QUOTED-PRINTABLE:

DTSTAMP:20260425T191440
DTSTART:20191129T000000
DTEND:20191129T235959
SEQUENCE:0
TRANSP:OPAQUE
END:VEVENT
END:VCALENDAR