BEGIN:VCALENDAR
VERSION:2.0
PRODID:-//jEvents 1.5 for Joomla//EN
BEGIN:VEVENT
UID:7e2e8c7e141b2b8215c803d4834c87d3
CATEGORIES:MuellKalender
SUMMARY:schwarz
LOCATION:
DESCRIPTION;ENCODING=QUOTED-PRINTABLE:

DTSTAMP:20260425T174602
DTSTART:20191220T000000
DTEND:20191220T235959
SEQUENCE:0
TRANSP:OPAQUE
END:VEVENT
END:VCALENDAR