BEGIN:VCALENDAR
VERSION:2.0
PRODID:-//jEvents 1.5 for Joomla//EN
BEGIN:VEVENT
UID:80a269241b000b7edbf3f583b83bdb1a
CATEGORIES:Adenstedt aktuell
SUMMARY:Jubiläumsschiessen 50 Jahre DFGA
LOCATION:
DESCRIPTION;ENCODING=QUOTED-PRINTABLE:\n\nhttp://gelbesblatt.info/gruppen/sonst/doerfliche-festgemeinschaft/2051-
 jubilaeumsschiessen-50-jahre-dfga\n\n\nFür alle AdenstedterInnen mit Minde
 stalter: 16 Jahre\n
CONTACT:http://gelbesblatt.info/gruppen/sonst/doerfliche-festgemeinschaft/2051-jubilaeumsschiessen-50-jahre-dfga

DTSTAMP:20260425T192751
DTSTART:20190615T100000
DTEND:20190615T180000
SEQUENCE:0
TRANSP:OPAQUE
END:VEVENT
END:VCALENDAR