BEGIN:VCALENDAR
VERSION:2.0
PRODID:-//jEvents 1.5 for Joomla//EN
BEGIN:VEVENT
UID:a89890729a50f34aa2d6cdf42c85afde
CATEGORIES:Adenstedt aktuell
SUMMARY:Ortsrat Adenstedt
LOCATION:
DESCRIPTION;ENCODING=QUOTED-PRINTABLE:\n\nhttps://sessionnet.krz.de/ilsede/bi/si0057.asp?__ksinr=1905\n
CONTACT:https://sessionnet.krz.de/ilsede/bi/si0057.asp?__ksinr=1905

DTSTAMP:20260425T212041
DTSTART:20190529T190000
DTEND:20190529T210000
SEQUENCE:0
TRANSP:OPAQUE
END:VEVENT
END:VCALENDAR