BEGIN:VCALENDAR
VERSION:2.0
PRODID:-//jEvents 1.5 for Joomla//EN
BEGIN:VEVENT
UID:471e6dee96abe3580060dd439d4a62f8
CATEGORIES:Adenstedt aktuell
SUMMARY:Königsschiessen Schützenverein
LOCATION:
DESCRIPTION;ENCODING=QUOTED-PRINTABLE:

DTSTAMP:20260425T174602
DTSTART:20190705T200000
DTEND:20190705T220000
SEQUENCE:0
TRANSP:OPAQUE
END:VEVENT
END:VCALENDAR