BEGIN:VCALENDAR
VERSION:2.0
PRODID:-//jEvents 1.5 for Joomla//EN
BEGIN:VEVENT
UID:23e33d4335bf5db22978ee63b7327f62
CATEGORIES:Adenstedt aktuell
SUMMARY:Königsschiessen Junggesellschaft
LOCATION:
DESCRIPTION;ENCODING=QUOTED-PRINTABLE:

DTSTAMP:20260425T174428
DTSTART:20190709T190000
DTEND:20190709T220000
SEQUENCE:0
TRANSP:OPAQUE
END:VEVENT
END:VCALENDAR