BEGIN:VCALENDAR
VERSION:2.0
PRODID:-//jEvents 1.5 for Joomla//EN
BEGIN:VEVENT
UID:a17a93113d3439240e79032a0a4c2436
CATEGORIES:Adenstedt aktuell
SUMMARY:Königsschiessen Damen
LOCATION:
DESCRIPTION;ENCODING=QUOTED-PRINTABLE:

DTSTAMP:20260425T174427
DTSTART:20190711T190000
DTEND:20190711T220000
SEQUENCE:0
TRANSP:OPAQUE
END:VEVENT
END:VCALENDAR