BEGIN:VCALENDAR
VERSION:2.0
PRODID:-//jEvents 1.5 for Joomla//EN
BEGIN:VEVENT
UID:b15d7d34a8a1716b6713244dce038660
CATEGORIES:Adenstedt aktuell
SUMMARY:Kränzebinden auf dem Festzelt
LOCATION:
DESCRIPTION;ENCODING=QUOTED-PRINTABLE:

DTSTAMP:20260425T174428
DTSTART:20190712T180000
DTEND:20190712T150000
SEQUENCE:0
TRANSP:OPAQUE
END:VEVENT
END:VCALENDAR