BEGIN:VCALENDAR
VERSION:2.0
PRODID:-//jEvents 1.5 for Joomla//EN
BEGIN:VEVENT
UID:1468569541bde0b5c01a42ccc3bee704
CATEGORIES:Adenstedt aktuell
SUMMARY:Königsfrühstück mit Pastor Sabrowski
LOCATION:
DESCRIPTION;ENCODING=QUOTED-PRINTABLE:

DTSTAMP:20260425T174443
DTSTART:20190715T100000
DTEND:20190715T150000
SEQUENCE:0
TRANSP:OPAQUE
END:VEVENT
END:VCALENDAR