BEGIN:VCALENDAR
VERSION:2.0
PRODID:-//jEvents 1.5 for Joomla//EN
BEGIN:VEVENT
UID:ac4903f23fb2b56540a76d9c55932af8
CATEGORIES:Adenstedt aktuell
SUMMARY:DFGA-Umzug
LOCATION:
DESCRIPTION;ENCODING=QUOTED-PRINTABLE:

DTSTAMP:20260425T175754
DTSTART:20190714T000000
DTEND:20190714T235959
SEQUENCE:0
TRANSP:OPAQUE
END:VEVENT
END:VCALENDAR