BEGIN:VCALENDAR
VERSION:2.0
PRODID:-//jEvents 1.5 for Joomla//EN
BEGIN:VEVENT
UID:cb24828f092431de244eea91ca0ed0d0
CATEGORIES:Adenstedt aktuell
SUMMARY:Jubiläumsfeuerwerk 50 Jahre DFGA
LOCATION:
DESCRIPTION;ENCODING=QUOTED-PRINTABLE:

DTSTAMP:20260425T180405
DTSTART:20190714T000000
DTEND:20190714T235959
SEQUENCE:0
TRANSP:OPAQUE
END:VEVENT
END:VCALENDAR