BEGIN:VCALENDAR
VERSION:2.0
PRODID:-//jEvents 1.5 for Joomla//EN
BEGIN:VEVENT
UID:d155345a6c180354a85e08b90b1f30b3
CATEGORIES:Adenstedt aktuell
SUMMARY:Ilseder Gemeinderat
LOCATION:
DESCRIPTION;ENCODING=QUOTED-PRINTABLE:

DTSTAMP:20260425T192740
DTSTART:20190627T000000
DTEND:20190627T235959
SEQUENCE:0
TRANSP:OPAQUE
END:VEVENT
END:VCALENDAR