BEGIN:VCALENDAR
VERSION:2.0
PRODID:-//jEvents 1.5 for Joomla//EN
BEGIN:VEVENT
UID:62a08bec841ec8439b5dd26f34e318ee
CATEGORIES:Adenstedt aktuell
SUMMARY:Festkommers 125 Jahre SGA
LOCATION:
DESCRIPTION;ENCODING=QUOTED-PRINTABLE:

DTSTAMP:20260425T155953
DTSTART:20190824T000000
DTEND:20190824T235959
SEQUENCE:0
TRANSP:OPAQUE
END:VEVENT
END:VCALENDAR