BEGIN:VCALENDAR
VERSION:2.0
PRODID:-//jEvents 1.5 for Joomla//EN
BEGIN:VEVENT
UID:5f02961dfe3b17367cd225210641e291
CATEGORIES:Adenstedt aktuell
SUMMARY:Ortsrat Adenstedt
LOCATION:
DESCRIPTION;ENCODING=QUOTED-PRINTABLE:\n\n19:00 Uhr im emilio's, Inselweg 4\n
CONTACT:https://sessionnet.krz.de/ilsede/bi/si0057.asp?__ksinr=1925

DTSTAMP:20260425T141332
DTSTART:20190904T190000
DTEND:20190904T150000
SEQUENCE:0
TRANSP:OPAQUE
END:VEVENT
END:VCALENDAR