BEGIN:VCALENDAR
VERSION:2.0
PRODID:-//jEvents 1.5 for Joomla//EN
BEGIN:VEVENT
UID:199eff6e7fa80825ca5c504faa96f634
CATEGORIES:Adenstedt aktuell
SUMMARY:Kartoffelfeuer
LOCATION:
DESCRIPTION;ENCODING=QUOTED-PRINTABLE:\n\n@page { size: 21cm 29.7cm; margin: 2cm } 		p { direction: ltr; color: #
 000000; line-height: 150%; orphans: 2; widows: 2; background: transparent }
  		p.western { font-family: "Arial", sans-serif; font-size: 12pt; so-langua
 ge: de-DE } 		p.cjk { font-family: "Arial", sans-serif; font-size: 12pt } 	
 	p.ctl { font-family: "Arial", sans-serif; font-size: 12pt }Das Feuer wird 
 bei Einbruch der Dunkelheit entzündet. Wir hoffen darauf, Sie ab 18:00 Uhr
  auf dem Festplatz an der Oedlumer Straße begrüßen zu können. Es gibt w
 ieder selbstgebackenen frischen Kartoffelpuffer mit Apfelmus, Bratwurst vom
  Grill und diverse Getränke. Selbstverständlich kommen auch die jüngeren
  Besucher nicht zu kurz, für sie gibt es Stockbrot am Lagerfeuer.\nWir wü
 rden uns freuen, wenn viele Besucher ein paar schöne Stunden mit uns in ge
 mütlicher Lagerfeueratmosphäre verbringen würden. \nIhr CDU Ortsverband 
 Adenstedt.\n\n

DTSTAMP:20260425T141242
DTSTART:20190928T190000
DTEND:20190928T150000
SEQUENCE:0
TRANSP:OPAQUE
END:VEVENT
END:VCALENDAR