BEGIN:VCALENDAR
VERSION:2.0
PRODID:-//jEvents 1.5 for Joomla//EN
BEGIN:VEVENT
UID:59eab01846195a6ee684d487c0529cb7
CATEGORIES:MuellKalender
SUMMARY:schwarz
LOCATION:
DESCRIPTION;ENCODING=QUOTED-PRINTABLE:

DTSTAMP:20260425T154249
DTSTART:20200117T000000
DTEND:20200117T235959
SEQUENCE:0
TRANSP:OPAQUE
END:VEVENT
END:VCALENDAR