BEGIN:VCALENDAR
VERSION:2.0
PRODID:-//jEvents 1.5 for Joomla//EN
BEGIN:VEVENT
UID:6e6e02f60a329223251670dd6b910584
CATEGORIES:MuellKalender
SUMMARY:schwarz
LOCATION:
DESCRIPTION;ENCODING=QUOTED-PRINTABLE:

DTSTAMP:20260425T141333
DTSTART:20200228T000000
DTEND:20200228T235959
SEQUENCE:0
TRANSP:OPAQUE
END:VEVENT
END:VCALENDAR