BEGIN:VCALENDAR
VERSION:2.0
PRODID:-//jEvents 1.5 for Joomla//EN
BEGIN:VEVENT
UID:56db7de64335baee896f2120a285a24e
CATEGORIES:MuellKalender
SUMMARY:grün, blau, gelb
LOCATION:
DESCRIPTION;ENCODING=QUOTED-PRINTABLE:

DTSTAMP:20260425T154148
DTSTART:20200110T000000
DTEND:20200110T235959
SEQUENCE:0
TRANSP:OPAQUE
END:VEVENT
END:VCALENDAR