BEGIN:VCALENDAR
VERSION:2.0
PRODID:-//jEvents 1.5 for Joomla//EN
BEGIN:VEVENT
UID:7d38e71e98a1f08f6fe11722c613620b
CATEGORIES:MuellKalender
SUMMARY:grün, blau, gelb
LOCATION:
DESCRIPTION;ENCODING=QUOTED-PRINTABLE:

DTSTAMP:20260425T054900
DTSTART:20200724T000000
DTEND:20200724T235959
SEQUENCE:0
TRANSP:OPAQUE
END:VEVENT
END:VCALENDAR