BEGIN:VCALENDAR
VERSION:2.0
PRODID:-//jEvents 1.5 for Joomla//EN
BEGIN:VEVENT
UID:b6ad8950d4a3d4acb6dd5189e24ef809
CATEGORIES:MuellKalender
SUMMARY:grün, blau, gelb
LOCATION:
DESCRIPTION;ENCODING=QUOTED-PRINTABLE:

DTSTAMP:20260425T035617
DTSTART:20200821T000000
DTEND:20200821T235959
SEQUENCE:0
TRANSP:OPAQUE
END:VEVENT
END:VCALENDAR