BEGIN:VCALENDAR
VERSION:2.0
PRODID:-//jEvents 1.5 for Joomla//EN
BEGIN:VEVENT
UID:3262702ee692b2d26acc03bb46dbe957
CATEGORIES:MuellKalender
SUMMARY:grün, blau, gelb
LOCATION:
DESCRIPTION;ENCODING=QUOTED-PRINTABLE:

DTSTAMP:20260424T225632
DTSTART:20201113T000000
DTEND:20201113T235959
SEQUENCE:0
TRANSP:OPAQUE
END:VEVENT
END:VCALENDAR