BEGIN:VCALENDAR
VERSION:2.0
PRODID:-//jEvents 1.5 for Joomla//EN
BEGIN:VEVENT
UID:5bd5ea2269d7db5afd3b8613d2cb9510
CATEGORIES:MuellKalender
SUMMARY:grün
LOCATION:
DESCRIPTION;ENCODING=QUOTED-PRINTABLE:

DTSTAMP:20260425T152840
DTSTART:20200124T000000
DTEND:20200124T235959
SEQUENCE:0
TRANSP:OPAQUE
END:VEVENT
END:VCALENDAR