BEGIN:VCALENDAR
VERSION:2.0
PRODID:-//jEvents 1.5 for Joomla//EN
BEGIN:VEVENT
UID:00a7a5f316660cc929ca9b420ed9a135
CATEGORIES:MuellKalender
SUMMARY:grün
LOCATION:
DESCRIPTION;ENCODING=QUOTED-PRINTABLE:

DTSTAMP:20260425T020345
DTSTART:20200904T000000
DTEND:20200904T235959
SEQUENCE:0
TRANSP:OPAQUE
END:VEVENT
END:VCALENDAR