BEGIN:VCALENDAR
VERSION:2.0
PRODID:-//jEvents 1.5 for Joomla//EN
BEGIN:VEVENT
UID:72a87c0b94c4b2300095feec38cd9ea3
CATEGORIES:MuellKalender
SUMMARY:grün
LOCATION:
DESCRIPTION;ENCODING=QUOTED-PRINTABLE:

DTSTAMP:20260425T005210
DTSTART:20201002T080000
DTEND:20201002T170000
SEQUENCE:0
TRANSP:OPAQUE
END:VEVENT
END:VCALENDAR