BEGIN:VCALENDAR
VERSION:2.0
PRODID:-//jEvents 1.5 for Joomla//EN
BEGIN:VEVENT
UID:0abe983b3dbfe965a14156b0cbbc5131
CATEGORIES:MuellKalender
SUMMARY:grün
LOCATION:
DESCRIPTION;ENCODING=QUOTED-PRINTABLE:

DTSTAMP:20260425T005136
DTSTART:20201030T000000
DTEND:20201030T235959
SEQUENCE:0
TRANSP:OPAQUE
END:VEVENT
END:VCALENDAR