BEGIN:VCALENDAR
VERSION:2.0
PRODID:-//jEvents 1.5 for Joomla//EN
BEGIN:VEVENT
UID:7e5a17acd3ae8e4cdf7e114ee97d196c
CATEGORIES:MuellKalender
SUMMARY:schwarz, grün
LOCATION:
DESCRIPTION;ENCODING=QUOTED-PRINTABLE:

DTSTAMP:20260425T020339
DTSTART:20200911T000000
DTEND:20200911T235959
SEQUENCE:0
TRANSP:OPAQUE
END:VEVENT
END:VCALENDAR