BEGIN:VCALENDAR
VERSION:2.0
PRODID:-//jEvents 1.5 for Joomla//EN
BEGIN:VEVENT
UID:198e93417f452a44779e4038bf950925
CATEGORIES:MuellKalender
SUMMARY:schwarz, grün
LOCATION:
DESCRIPTION;ENCODING=QUOTED-PRINTABLE:

DTSTAMP:20260425T020345
DTSTART:20200925T000000
DTEND:20200925T235959
SEQUENCE:0
TRANSP:OPAQUE
END:VEVENT
END:VCALENDAR