BEGIN:VCALENDAR
VERSION:2.0
PRODID:-//jEvents 1.5 for Joomla//EN
BEGIN:VEVENT
UID:407819fb43dc15837a4558b231ab95d2
CATEGORIES:MuellKalender
SUMMARY:schwarz, grün
LOCATION:
DESCRIPTION;ENCODING=QUOTED-PRINTABLE:

DTSTAMP:20260425T005211
DTSTART:20201023T080000
DTEND:20201023T170000
SEQUENCE:0
TRANSP:OPAQUE
END:VEVENT
END:VCALENDAR