BEGIN:VCALENDAR
VERSION:2.0
PRODID:-//jEvents 1.5 for Joomla//EN
BEGIN:VEVENT
UID:c24632089097eb70cdde5b933c227304
CATEGORIES:Adenstedt aktuell
SUMMARY:Bayerischer Abend 2020 Schützenplatz Adenstedt
LOCATION:
DESCRIPTION;ENCODING=QUOTED-PRINTABLE:
CONTACT:https://www.facebook.com/events/522525011807907/

DTSTAMP:20260425T054927
DTSTART:20200215T200000
DTEND:20200215T150000
SEQUENCE:0
TRANSP:OPAQUE
END:VEVENT
END:VCALENDAR